BEGIN:VCALENDAR
PRODID:-//AT Content Types//AT Event//EN
VERSION:2.0
METHOD:PUBLISH
BEGIN:VEVENT
DTSTAMP:20260425T183228Z
CREATED:20191028T170255Z
UID:ATEvent-0237a97d1c5abef3f70ce5cccf40b127
LAST-MODIFIED:20191028T170306Z
SUMMARY:Reformációi istentisztelet
DTSTART:20191031T160000Z
DTEND:20191031T165500Z
DESCRIPTION:Templomunkban rövidített ünnepi istentiszteletet tartun
 k a reformáció emléknapján.
LOCATION:Budapest\, Rózsalevél u. 46.
CLASS:PUBLIC
END:VEVENT
END:VCALENDAR
