BEGIN:VCALENDAR
PRODID:-//AT Content Types//AT Event//EN
VERSION:2.0
METHOD:PUBLISH
BEGIN:VEVENT
DTSTAMP:20260424T054429Z
CREATED:20200328T233255Z
UID:ATEvent-b1ead8ec1834092e642c05e59324a091
LAST-MODIFIED:20200328T233301Z
SUMMARY:Ragaszkodjunk a reménységhez!
DTSTART:20200329T083000Z
DTEND:20200329T090500Z
DESCRIPTION:Online istentisztelet Böjt 5. (Judica) vasárnapján
LOCATION:Budapest\, Rózsalevél u. 46.
CLASS:PUBLIC
END:VEVENT
END:VCALENDAR
