BEGIN:VCALENDAR
PRODID:-//AT Content Types//AT Event//EN
VERSION:2.0
METHOD:PUBLISH
BEGIN:VEVENT
DTSTAMP:20260426T020833Z
CREATED:20200123T131605Z
UID:ATEvent-4c53260381f8c1b88d6492d0aa77b6d3
LAST-MODIFIED:20200123T131750Z
SUMMARY:Ökumenikus imahét
DTSTART:20200120T170000Z
DTEND:20200126T161500Z
LOCATION:Cinkota-Mátyásföld-Árpádföld
CLASS:PUBLIC
END:VEVENT
END:VCALENDAR
