BEGIN:VCALENDAR
PRODID:-//AT Content Types//AT Event//EN
VERSION:2.0
METHOD:PUBLISH
BEGIN:VEVENT
DTSTAMP:20260423T234254Z
CREATED:20181115T134408Z
UID:ATEvent-669aaf6ff40eff590bc1c9d7bde57021
LAST-MODIFIED:20181115T134542Z
SUMMARY:Kiállítás megnyitó
DTSTART:20181124T160500Z
DTEND:20181124T164500Z
DESCRIPTION:Ádámffy Pál grafikus-tanár "Nem tudhatom..." c. kiáll
 ytásán lakóhelyünk környezetét ismerhetjük fel a kiállított k
 épeken.
LOCATION:gyülekezeti ház (Batthyány Ilona u. 53-55.)
URL:https://cinkota.lutheran.hu/aktualis/181124%20Adamffy%20plakat.jpg/image_view_fullscreen
CLASS:PUBLIC
END:VEVENT
END:VCALENDAR
