BEGIN:VCALENDAR
PRODID:-//AT Content Types//AT Event//EN
VERSION:2.0
METHOD:PUBLISH
BEGIN:VEVENT
DTSTAMP:20260424T042002Z
CREATED:20191224T095805Z
UID:ATEvent-fe46a5e15b488124ba1d3c2260d928c2
LAST-MODIFIED:20191224T095813Z
SUMMARY:Karácsonyi orgonamuzsika és ünnepváró istentisztelet
DTSTART:20191224T213000Z
DTEND:20191224T225500Z
DESCRIPTION:Az istentisztelet előtt fél órával dr. Kinczler Zsuzsa
 nna kántorunk karácsonyi dallamokat játszik. Ezt követően fiatal 
 felnőttek olvassák fel istentiszteleti keretben a Krisztusról szól
 ó próféciákat\, valamint a karácsonyi történet jól ismert bibl
 iai szövegét.
LOCATION:Budapest\, Rózsalevél u. 46.
CLASS:PUBLIC
END:VEVENT
END:VCALENDAR
