BEGIN:VCALENDAR
PRODID:-//AT Content Types//AT Event//EN
VERSION:2.0
METHOD:PUBLISH
BEGIN:VEVENT
DTSTAMP:20260424T163530Z
CREATED:20191224T095259Z
UID:ATEvent-ac0f5ccb9d3fdb7f1e7be8a56b848f28
LAST-MODIFIED:20191224T095305Z
SUMMARY:Karácsony szentesti istentisztelet
DTSTART:20191224T140000Z
DTEND:20191224T143500Z
DESCRIPTION:Rövidített karácsonyi istentiszteletet tartunk mátyás
 földi evangélikus templomunkban.\nA templom 45. és 46. BKK busszal 
 érhető el\, valami autóval az Újszász utcán a Prodám u. sarkái
 g.
LOCATION:Mátyásföld\, Pordám u. 24.
CLASS:PUBLIC
END:VEVENT
END:VCALENDAR
