BEGIN:VCALENDAR
PRODID:-//AT Content Types//AT Event//EN
VERSION:1.0
BEGIN:VEVENT
DTSTART:20191224T160000Z
DTEND:20191224T170500Z
DCREATED:20191224T095511Z
UID:ATEvent-ae0c3fed416a71980a4386a7bd1d0809
SEQUENCE:0
LAST-MODIFIED:20191224T095515Z
SUMMARY:Karácsony szentesi családi istentisztelet
DESCRIPTION:Gyülekezeti házunkban kötetlen liturgiával játékos\,
  interaktív istentiszteletet tartunk kisgyermekes családoknak. Az é
 nekeket gitárral kísérjük\, és lesz egy meglepetés szám is.
LOCATION:Budapest\, Batthyány Ilona u. 53-55.
PRIORITY:3
TRANSP:0
END:VEVENT
END:VCALENDAR
