BEGIN:VCALENDAR
PRODID:-//AT Content Types//AT Event//EN
VERSION:2.0
METHOD:PUBLISH
BEGIN:VEVENT
DTSTAMP:20260419T143912Z
CREATED:20181203T071815Z
UID:ATEvent-a24ce62acecfd8ebfec1ec0363bf5599
LAST-MODIFIED:20181224T101427Z
SUMMARY:Karácsony esti családi istentisztelet
DTSTART:20181224T160000Z
DTEND:20181224T164500Z
DESCRIPTION:Amíg az angyalok serénykednek\, családi istentisztelet 
 keretében éljük át -- kötetlen formában\: sok énekkel\, interak
 tív elemekkel -- az első karácsony hangulatát. Szeretettel várunk
  kicsiket\, nagyokat a meghitt együttlétre.
LOCATION:gyülekezeti ház (Batthyány Ilona u. 53-55.)
URL:https://cinkota.lutheran.hu/media/kepek-1/Geschenkauspacken.gif/view
CLASS:PUBLIC
END:VEVENT
END:VCALENDAR
