BEGIN:VCALENDAR
PRODID:-//AT Content Types//AT Event//EN
VERSION:2.0
METHOD:PUBLISH
BEGIN:VEVENT
DTSTAMP:20260424T040429Z
CREATED:20200418T084001Z
UID:ATEvent-6f4217a72526648b0ec5957537167510
LAST-MODIFIED:20200418T084503Z
SUMMARY:BeiratkozÃ¡s - hitoktatÃ¡s
DTSTART:20200428T060000Z
DTEND:20200515T140000Z
DESCRIPTION:Az Ã¡ltalÃ¡nos iskolÃ¡s gyermekek beiratkozÃ¡sa alkalmÃ¡va
 l az iskola arra is rÃ¡kÃ©rdez\, milyen hitoktatÃ¡sban kÃ­vÃ¡nja a szÃ
 ¼lÅ‘ gyermekÃ©t rÃ©szesÃ­teni.\nSzeretettel ajÃ¡nljuk egyhÃ¡zunk szolg
 Ã¡latÃ¡t. \nA hitoktatÃ¡s tartalmÃ¡nak Ã©s cÃ©ljÃ¡nak rÃ¶vid Ã¶sszefog
 lalÃ³jÃ¡t a mellÃ©kelt szÃ³rÃ³lapon talÃ¡ljÃ¡k.
URL:https://cinkota.lutheran.hu/aktualis/beiratkozas-hitoktatas-1
CLASS:PUBLIC
END:VEVENT
END:VCALENDAR
