BEGIN:VCALENDAR
PRODID:-//AT Content Types//AT Event//EN
VERSION:2.0
METHOD:PUBLISH
BEGIN:VEVENT
DTSTAMP:20260426T035739Z
CREATED:20171217T002930Z
UID:ATEvent-4e62cac566d6e605f8177001db8e2bb5
LAST-MODIFIED:20171217T003151Z
SUMMARY:Adventi teadÃ©lutÃ¡n
DTSTART:20171217T160000Z
DTEND:20171217T180000Z
DESCRIPTION:SzeretetvendÃ©gsÃ©gi keretek kÃ¶zÃ¶tt hittanosaink mÅ±sorÃ
 ¡val Ã¼nnepelÃ¼nk gyÃ¼lekezeti hÃ¡zunkban.
LOCATION:1164 Budapest BatthyÃ¡ny Ilona u. 53-55.
CLASS:PUBLIC
END:VEVENT
END:VCALENDAR
